BEGIN:VCALENDAR
VERSION:2.0
PRODID:-//Oberschule Cossebaude - ECPv6.15.20//NONSGML v1.0//EN
CALSCALE:GREGORIAN
METHOD:PUBLISH
X-WR-CALNAME:Oberschule Cossebaude
X-ORIGINAL-URL:https://os-cossebaude.de
X-WR-CALDESC:Veranstaltungen für Oberschule Cossebaude
REFRESH-INTERVAL;VALUE=DURATION:PT1H
X-Robots-Tag:noindex
X-PUBLISHED-TTL:PT1H
BEGIN:VTIMEZONE
TZID:Europe/Berlin
BEGIN:DAYLIGHT
TZOFFSETFROM:+0100
TZOFFSETTO:+0200
TZNAME:CEST
DTSTART:20250330T010000
END:DAYLIGHT
BEGIN:STANDARD
TZOFFSETFROM:+0200
TZOFFSETTO:+0100
TZNAME:CET
DTSTART:20251026T010000
END:STANDARD
BEGIN:DAYLIGHT
TZOFFSETFROM:+0100
TZOFFSETTO:+0200
TZNAME:CEST
DTSTART:20260329T010000
END:DAYLIGHT
BEGIN:STANDARD
TZOFFSETFROM:+0200
TZOFFSETTO:+0100
TZNAME:CET
DTSTART:20261025T010000
END:STANDARD
BEGIN:DAYLIGHT
TZOFFSETFROM:+0100
TZOFFSETTO:+0200
TZNAME:CEST
DTSTART:20270328T010000
END:DAYLIGHT
BEGIN:STANDARD
TZOFFSETFROM:+0200
TZOFFSETTO:+0100
TZNAME:CET
DTSTART:20271031T010000
END:STANDARD
END:VTIMEZONE
BEGIN:VEVENT
DTSTART;TZID=Europe/Berlin:20260422T000000
DTEND;TZID=Europe/Berlin:20260422T235959
DTSTAMP:20260422T120523
CREATED:20260420T133406Z
LAST-MODIFIED:20260420T133406Z
UID:9636-1776816000-1776902399@os-cossebaude.de
SUMMARY:Exkursion nach Theresienstadt
DESCRIPTION:
URL:https://os-cossebaude.de/event/exkursion-nach-theresienstadt/
END:VEVENT
END:VCALENDAR