BEGIN:VCALENDAR
VERSION:2.0
PRODID:-//Oberschule Cossebaude - ECPv6.15.20//NONSGML v1.0//EN
CALSCALE:GREGORIAN
METHOD:PUBLISH
X-WR-CALNAME:Oberschule Cossebaude
X-ORIGINAL-URL:https://os-cossebaude.de
X-WR-CALDESC:Veranstaltungen für Oberschule Cossebaude
REFRESH-INTERVAL;VALUE=DURATION:PT1H
X-Robots-Tag:noindex
X-PUBLISHED-TTL:PT1H
BEGIN:VTIMEZONE
TZID:Europe/Berlin
BEGIN:DAYLIGHT
TZOFFSETFROM:+0100
TZOFFSETTO:+0200
TZNAME:CEST
DTSTART:20250330T010000
END:DAYLIGHT
BEGIN:STANDARD
TZOFFSETFROM:+0200
TZOFFSETTO:+0100
TZNAME:CET
DTSTART:20251026T010000
END:STANDARD
BEGIN:DAYLIGHT
TZOFFSETFROM:+0100
TZOFFSETTO:+0200
TZNAME:CEST
DTSTART:20260329T010000
END:DAYLIGHT
BEGIN:STANDARD
TZOFFSETFROM:+0200
TZOFFSETTO:+0100
TZNAME:CET
DTSTART:20261025T010000
END:STANDARD
BEGIN:DAYLIGHT
TZOFFSETFROM:+0100
TZOFFSETTO:+0200
TZNAME:CEST
DTSTART:20270328T010000
END:DAYLIGHT
BEGIN:STANDARD
TZOFFSETFROM:+0200
TZOFFSETTO:+0100
TZNAME:CET
DTSTART:20271031T010000
END:STANDARD
END:VTIMEZONE
BEGIN:VEVENT
DTSTART;TZID=Europe/Berlin:20260225T000000
DTEND;TZID=Europe/Berlin:20260225T235959
DTSTAMP:20260423T194440
CREATED:20241112T100008Z
LAST-MODIFIED:20260223T105329Z
UID:4169-1771977600-1772063999@os-cossebaude.de
SUMMARY:7b: Exkursion zum Residenzschloss
DESCRIPTION:
URL:https://os-cossebaude.de/event/exkursion-zum-residenzschloss-7b/
LOCATION:Sachsen
CATEGORIES:Schulleben
END:VEVENT
BEGIN:VEVENT
DTSTART;TZID=Europe/Berlin:20260226T000000
DTEND;TZID=Europe/Berlin:20260226T235959
DTSTAMP:20260423T194440
CREATED:20241112T095931Z
LAST-MODIFIED:20260223T105145Z
UID:4167-1772064000-1772150399@os-cossebaude.de
SUMMARY:7a: Exkursion zum Residenzschloss
DESCRIPTION:
URL:https://os-cossebaude.de/event/exkursion-zum-residenzschloss-7a/
LOCATION:Sachsen
CATEGORIES:Schulleben
END:VEVENT
END:VCALENDAR